BEGIN:VCALENDAR
VERSION:2.0
PRODID:-//https://www.pferdezucht-rheinland.de///NONSGML kigkonsult.se iCalcreator 2.10.15//
METHOD:PUBLISH
BEGIN:VEVENT
UID:20260421T095856UTC-2670w55Unj@https://www.pferdezucht-rheinland.de/
DTSTAMP:20260421T095856Z
DESCRIPTION:Am 26.05. ist es wieder soweit: Unsere erste Stutenleistungsprü
 fung für das Jahr 2026 in Wickrath steht an!\nNutzen Sie die Gelegenheit\,
  das Können Ihrer Stute unter dem Sattel eindrucksvoll unter Beweis zu ste
 llen und präsentieren Sie ihr Potenzial vor fachkundiger Kommission und  P
 ublikum.\nMelden Sie Ihre Stute jetzt ganz bequem über unser Anmeldeformul
 ar an und sichern Sie sich Ihren Startplatz.\nAnmeldeformular SLP\nZur opt
 imalen Vorbereitung empfehlen wir außerdem unser Trainingsfreispringen am 
 18.05. Hier hat Ihre Stute die Möglichkeit\, wertvolle Erfahrung zu sammel
 n und mehr Sicherheit in der Freispringgasse zu gewinnen – die ideale Grun
 dlage für einen erfolgreichen Auftritt bei der Prüfung. Die Anmeldung hier
 für erfolgt ebenfalls über das Anmeldeformular.\nWir freuen uns auf Ihre T
 eilnahme und wünschen Ihnen viel Erfolg bei der Vorbereitung! https://www.
 pferdezucht-rheinland.de/termine-veranstaltungen/event/626-stutenleistungs
 prüfung-für-pony-und-warmblutstuten.html
DTSTART;VALUE=DATE:20260526
LOCATION: ()
SUMMARY:Stutenleistungsprüfung für Pony- und Warmblutstuten
URL:https://www.pferdezucht-rheinland.de/termine-veranstaltungen/event/626-
 stutenleistungsprüfung-für-pony-und-warmblutstuten.html
END:VEVENT
END:VCALENDAR
