BEGIN:VCALENDAR
VERSION:2.0
PRODID:-//https://www.pferdezucht-rheinland.de///NONSGML kigkonsult.se iCalcreator 2.10.15//
METHOD:PUBLISH
BEGIN:VEVENT
UID:20260421T095840UTC-2604ewjSLZ@https://www.pferdezucht-rheinland.de/
DTSTAMP:20260421T095840Z
DESCRIPTION:Am 15.05.2026 wird diesjährig wieder auf der wunderschönen Anla
 ge des Gut Schwalmbruchs das alljährliche VTV-Fohlenchampionat ausgetragen
 . Anlässlich dieser Veranstaltung wird das Rheinische Pferdestammbuch und 
 der Bezirksverband NRW auch wieder eine Auktion mit ausgewählter Kollektio
 n durchführen. Ihr Ansprechpartner zu dieser Veranstaltung bleibt wie aus 
 den letzten Jahren gewohnt Yannick Pferdmenges und Theo Lenzen. Für weiter
 e Fragen steht ihnen die Geschäftsstelle auch gern zur Seite. \nWeitere In
 fos folgen! https://www.pferdezucht-rheinland.de/termine-veranstaltungen/e
 vent/649-vtv-fohlenchampionat-mit-auktion.html
DTSTART;VALUE=DATE:20260515
LOCATION:Gut Schwalmbruch  (Nollesweg 14\, 41372 Niederkrüchten)
SUMMARY:VTV Fohlenchampionat mit Auktion 
URL:https://www.pferdezucht-rheinland.de/termine-veranstaltungen/event/649-
 vtv-fohlenchampionat-mit-auktion.html
END:VEVENT
BEGIN:VEVENT
UID:20260421T095840UTC-2608N4Vvo3@https://www.pferdezucht-rheinland.de/
DTSTAMP:20260421T095840Z
DESCRIPTION:Am 12. Mai besteht für unsere interessierten Züchter wieder die
  Chance ihre vielversprechenden Fohlen\, die Sie gerne über unsere Auktion
 en vermarkten möchten\, zu zeigen und bei dieser Gelegenheit auch direkt p
 rofessionelle Fotos- und Videos erstellen zu lassen. \nBei Fragen melden S
 ie sich gern in der Geschäftsstelle oder bei Yannick Pferdmenges\nAnmeldef
 ormular Foto- und Videotermin https://www.pferdezucht-rheinland.de/termine
 -veranstaltungen/event/651-foto-und-videotermin-für-fohlen-für-die-auktion
 en.html
DTSTART;VALUE=DATE:20260512
LOCATION:Wickrath (Schloss Wickrath 7\, 41189 Mönchengladbach)
SUMMARY:Foto und Videotermin für Fohlen für die Auktionen
URL:https://www.pferdezucht-rheinland.de/termine-veranstaltungen/event/651-
 foto-und-videotermin-für-fohlen-für-die-auktionen.html
END:VEVENT
END:VCALENDAR
