BEGIN:VCALENDAR
VERSION:2.0
PRODID:-//https://www.pferdezucht-rheinland.de///NONSGML kigkonsult.se iCalcreator 2.10.15//
METHOD:PUBLISH
BEGIN:VEVENT
UID:20260423T190804UTC-1182tIU4Hd@https://www.pferdezucht-rheinland.de/
DTSTAMP:20260423T190804Z
DESCRIPTION:Anmeldeformular https://www.pferdezucht-rheinland.de/termine-ve
 ranstaltungen/event/606-vorauswahl-fohlenauktion-mit-foto-und-videotermin.
 html
DTSTART;VALUE=DATE:20250630
LOCATION:Wickrath (Schloss Wickrath 7\, 41189 Mönchengladbach)
SUMMARY:Vorauswahl Fohlenauktion mit Foto- und Videotermin
URL:https://www.pferdezucht-rheinland.de/termine-veranstaltungen/event/606-
 vorauswahl-fohlenauktion-mit-foto-und-videotermin.html
END:VEVENT
END:VCALENDAR
