BEGIN:VCALENDAR
VERSION:2.0
PRODID:-//https://www.pferdezucht-rheinland.de///NONSGML kigkonsult.se iCalcreator 2.10.15//
METHOD:PUBLISH
BEGIN:VEVENT
UID:20260426T030654UTC-5041cvUilj@https://www.pferdezucht-rheinland.de/
DTSTAMP:20260426T030654Z
DESCRIPTION:Kontakt: Stefan SevensNennungen formlos an Jochen Hessling TO@h
 orsenet.de https://www.pferdezucht-rheinland.de/termine-veranstaltungen/ev
 ent/492-schloss-wickrath-dressage-test-of-choice-trainingstag.html
DTSTART;VALUE=DATE:20230519
LOCATION: ()
SUMMARY:Schloss Wickrath Dressage - Test of Choice & Trainingstag
URL:https://www.pferdezucht-rheinland.de/termine-veranstaltungen/event/492-
 schloss-wickrath-dressage-test-of-choice-trainingstag.html
END:VEVENT
END:VCALENDAR
