BEGIN:VCALENDAR
VERSION:2.0
PRODID:-//https://www.pferdezucht-rheinland.de///NONSGML kigkonsult.se iCalcreator 2.10.15//
METHOD:PUBLISH
BEGIN:VEVENT
UID:20260423T231126UTC-21673Z9pxE@https://www.pferdezucht-rheinland.de/
DTSTAMP:20260423T231126Z
DESCRIPTION: https://www.pferdezucht-rheinland.de/termine-veranstaltungen/e
 vent/490-mitgliederversammlung-kreispferdezuchtverein-kreis-aachen\,-düren
 -heinsberg.html
DTSTART:20230502T170000Z
DTEND:20230502T190000Z
LOCATION:Albert-Vahle-Halle\, Aachen (Hubert-Wienen Str. 13\, 52070 Aachen)
SUMMARY:Mitgliederversammlung Kreispferdezuchtverein Kreis Aachen\, Düren &
  Heinsberg
URL:https://www.pferdezucht-rheinland.de/termine-veranstaltungen/event/490-
 mitgliederversammlung-kreispferdezuchtverein-kreis-aachen,-düren-heinsberg
 .html
END:VEVENT
END:VCALENDAR
