BEGIN:VCALENDAR
VERSION:2.0
PRODID:-//https://www.pferdezucht-rheinland.de///NONSGML kigkonsult.se iCalcreator 2.10.15//
METHOD:PUBLISH
BEGIN:VEVENT
UID:20260423T100033UTC-0825VpG8Wf@https://www.pferdezucht-rheinland.de/
DTSTAMP:20260423T100033Z
DESCRIPTION:Hier geht es zur Zeiteinteilung mit Starterliste: Klick https:/
 /www.pferdezucht-rheinland.de/termine-veranstaltungen/event/484-finale-nrw
 -freispringchampionat-offener-freispringwettbewerb-für-ponyhengste.html
DTSTART;VALUE=DATE:20230422
LOCATION: ()
SUMMARY:Finale NRW Freispringchampionat & offener Freispringwettbewerb für 
 Ponyhengste
URL:https://www.pferdezucht-rheinland.de/termine-veranstaltungen/event/484-
 finale-nrw-freispringchampionat-offener-freispringwettbewerb-für-ponyhengs
 te.html
END:VEVENT
END:VCALENDAR
