BEGIN:VCALENDAR
VERSION:2.0
PRODID:-//https://www.pferdezucht-rheinland.de///NONSGML kigkonsult.se iCalcreator 2.10.15//
METHOD:PUBLISH
BEGIN:VEVENT
UID:20260422T221909UTC-8832x31Axv@https://www.pferdezucht-rheinland.de/
DTSTAMP:20260422T221909Z
DESCRIPTION:am:        Donnerstag\, dem 13. April 2023\num:        19 Uhr\n
 Ort:        Zur Dorfschule Keppeln\, Rosenstraße 16\, 47589 Uedem\nReferen
 t:            Sönke Rothenberger https://www.pferdezucht-rheinland.de/term
 ine-veranstaltungen/event/479-mitgliederversammlung-kreispferdezuchtverein
 -kreis-kleve.html
DTSTART:20230413T170000Z
DTEND:20230413T190000Z
LOCATION:Zur Dorfschule Keppeln\, Rosenstraße 16\, 47589 Uedem (Zur Dorfsch
 ule Keppeln\, Rosenstraße 16\, 47589 Uedem)
SUMMARY:Mitgliederversammlung Kreispferdezuchtverein Kreis Kleve
URL:https://www.pferdezucht-rheinland.de/termine-veranstaltungen/event/479-
 mitgliederversammlung-kreispferdezuchtverein-kreis-kleve.html
END:VEVENT
END:VCALENDAR
