BEGIN:VCALENDAR
VERSION:2.0
PRODID:-//https://www.pferdezucht-rheinland.de///NONSGML kigkonsult.se iCalcreator 2.10.15//
METHOD:PUBLISH
BEGIN:VEVENT
UID:20260422T045703UTC-5270HzfaBj@https://www.pferdezucht-rheinland.de/
DTSTAMP:20260422T045703Z
DESCRIPTION:\n\n\n\nAuch in diesem Jahr haben wieder hochkarätige Preisrich
 ter ihre Teilnahme bestätigt:Wilken Treu\, Hannoveraner Verband e.V.Esben 
 Møller\, Helgstrand DressageKoen Brinkmann\, Stal Brinkmann\, Niederlande
 \nEin herzlicher Dank geht auch die Hengsthalter NRWs\, die großzügig Deck
 geldgutscheine zur Verfügung stellen!\n\n\n https://www.pferdezucht-rheinl
 and.de/termine-veranstaltungen/event/473-vtv-fohlenchampionat.html
DTSTART;VALUE=DATE:20230512
LOCATION: ()
SUMMARY:VTV Fohlenchampionat
URL:https://www.pferdezucht-rheinland.de/termine-veranstaltungen/event/473-
 vtv-fohlenchampionat.html
END:VEVENT
END:VCALENDAR
