BEGIN:VCALENDAR
VERSION:2.0
PRODID:-//https://www.pferdezucht-rheinland.de///NONSGML kigkonsult.se iCalcreator 2.10.15//
METHOD:PUBLISH
BEGIN:VEVENT
UID:20260423T010025UTC-7952ziVclT@https://www.pferdezucht-rheinland.de/
DTSTAMP:20260423T010025Z
DESCRIPTION:Einladung und Ausschreibung zur IPZV-Jungpferde-Materialbeurtei
 lung für 3- und 4-jährige Pferde\nAusschreibung und Einladung\nNennungsfor
 mular\nZEITEINTEILUNG https://www.pferdezucht-rheinland.de/termine-veranst
 altungen/event/472-islandpferdekörung-hinweis-ausführungsort-gewechselt.ht
 ml
DTSTART;VALUE=DATE:20230415
LOCATION:Gestüt Petersberg\, Königswinter (Lauterbachstr.74\, 53639 Königsw
 inter)
SUMMARY:Islandpferdekörung - Hinweis: Ausführungsort gewechselt
URL:https://www.pferdezucht-rheinland.de/termine-veranstaltungen/event/472-
 islandpferdekörung-hinweis-ausführungsort-gewechselt.html
END:VEVENT
END:VCALENDAR
