BEGIN:VCALENDAR
VERSION:2.0
PRODID:-//https://www.pferdezucht-rheinland.de///NONSGML kigkonsult.se iCalcreator 2.10.15//
METHOD:PUBLISH
BEGIN:VEVENT
UID:20260421T191429UTC-4540wkMPrz@https://www.pferdezucht-rheinland.de/
DTSTAMP:20260421T191429Z
DESCRIPTION:ZEITEINTEILUNGKATALOG ERGEBNISSE https://www.pferdezucht-rheinl
 and.de/termine-veranstaltungen/event/277-fohlenschau-mittlerer-niederrhein
 .html
DTSTART;VALUE=DATE:20220624
LOCATION:Willich ()
SUMMARY:Fohlenschau Mittlerer Niederrhein
URL:https://www.pferdezucht-rheinland.de/termine-veranstaltungen/event/277-
 fohlenschau-mittlerer-niederrhein.html
END:VEVENT
END:VCALENDAR
