BEGIN:VCALENDAR
VERSION:2.0
PRODID:-//https://www.pferdezucht-rheinland.de///NONSGML kigkonsult.se iCalcreator 2.10.15//
METHOD:PUBLISH
BEGIN:VEVENT
UID:20260426T001012UTC-04952pT4Mu@https://www.pferdezucht-rheinland.de/
DTSTAMP:20260426T001012Z
DESCRIPTION: \nZeiteinteilung und Starterliste https://www.pferdezucht-rhei
 nland.de/termine-veranstaltungen/event/233-stutenleistungsprüfung-reitpfer
 d-pony.html
DTSTART;VALUE=DATE:20230517
LOCATION:Wickrath (Schloss Wickrath 7\, 41189 Mönchengladbach)
SUMMARY:Stutenleistungsprüfung Reitpferd & Pony
URL:https://www.pferdezucht-rheinland.de/termine-veranstaltungen/event/233-
 stutenleistungsprüfung-reitpferd-pony.html
END:VEVENT
END:VCALENDAR
