BEGIN:VCALENDAR
VERSION:2.0
PRODID:-//https://www.pferdezucht-rheinland.de///NONSGML kigkonsult.se iCalcreator 2.10.15//
METHOD:PUBLISH
BEGIN:VEVENT
UID:20260422T211442UTC-5105CLIjbV@https://www.pferdezucht-rheinland.de/
DTSTAMP:20260422T211442Z
DESCRIPTION: https://www.pferdezucht-rheinland.de/termine-veranstaltungen/e
 vent/181-fest-am-see.html
DTSTART:20220730T080000Z
DTEND:20220731T180000Z
LOCATION: ()
SUMMARY:Fest am See
URL:https://www.pferdezucht-rheinland.de/termine-veranstaltungen/event/181-
 fest-am-see.html
END:VEVENT
END:VCALENDAR
