BEGIN:VCALENDAR
VERSION:2.0
PRODID:-//https://www.pferdezucht-rheinland.de///NONSGML kigkonsult.se iCalcreator 2.10.15//
METHOD:PUBLISH
BEGIN:VEVENT
UID:20260423T085014UTC-4008aU08Hl@https://www.pferdezucht-rheinland.de/
DTSTAMP:20260423T085014Z
DESCRIPTION:Hier geht es zum Anmeldeformular → http://pferdezucht-rheinland
 .de/images/pdf/Anmeldeformular_Vorauswahl_Fohlenauktion_22.pdf https://www
 .pferdezucht-rheinland.de/termine-veranstaltungen/event/171-vorauswahl-2-f
 ohlenauktion-mit-foto-videotermin.html
DTSTART;VALUE=DATE:20220627
LOCATION: ()
SUMMARY:Vorauswahl 2. Fohlenauktion mit Foto- & Videotermin
URL:https://www.pferdezucht-rheinland.de/termine-veranstaltungen/event/171-
 vorauswahl-2-fohlenauktion-mit-foto-videotermin.html
END:VEVENT
END:VCALENDAR
