BEGIN:VCALENDAR
VERSION:2.0
PRODID:-//https://www.pferdezucht-rheinland.de///NONSGML kigkonsult.se iCalcreator 2.10.15//
METHOD:PUBLISH
BEGIN:VEVENT
UID:20260425T102031UTC-4225S34OXS@https://www.pferdezucht-rheinland.de/
DTSTAMP:20260425T102031Z
DESCRIPTION:Für dieses Event wurde das Pferdezentrum vermietet.\nInformatio
 nen finden Sie unter https://www.wed-ev.com/ https://www.pferdezucht-rhein
 land.de/termine-veranstaltungen/event/595-working-equitation-deutsche-meis
 terschaften-2025.html
DTSTART:20250731T080000Z
DTEND:20250803T170000Z
LOCATION: ()
SUMMARY:Working Equitation Deutsche Meisterschaften 2025
URL:https://www.pferdezucht-rheinland.de/termine-veranstaltungen/event/595-
 working-equitation-deutsche-meisterschaften-2025.html
END:VEVENT
END:VCALENDAR
