BEGIN:VCALENDAR
VERSION:2.0
PRODID:-//https://www.pferdezucht-rheinland.de///NONSGML kigkonsult.se iCalcreator 2.10.15//
METHOD:PUBLISH
BEGIN:VEVENT
UID:20260424T065742UTC-2794gzURf5@https://www.pferdezucht-rheinland.de/
DTSTAMP:20260424T065742Z
DESCRIPTION:Für dieses Event wurde das Pferdezentrum vermietet.Informatione
 n finden Sie unter FN Neon und https://www.horsenet.de/ https://www.pferde
 zucht-rheinland.de/termine-veranstaltungen/event/593-schloss-wickrath-dres
 sage.html
DTSTART:20250711T080000Z
DTEND:20250713T170000Z
LOCATION: ()
SUMMARY:Schloss Wickrath Dressage
URL:https://www.pferdezucht-rheinland.de/termine-veranstaltungen/event/593-
 schloss-wickrath-dressage.html
END:VEVENT
END:VCALENDAR
