BEGIN:VCALENDAR
VERSION:2.0
PRODID:-//https://www.pferdezucht-rheinland.de///NONSGML kigkonsult.se iCalcreator 2.10.15//
METHOD:PUBLISH
BEGIN:VEVENT
UID:20260423T115929UTC-9034clA438@https://www.pferdezucht-rheinland.de/
DTSTAMP:20260423T115929Z
DESCRIPTION:Anmeldungen sind an die ausrichtenden Kreispferdezuchtvereine z
 u richten.\nKATALOG\nZEITEINTEILUNG\n\n  https://www.pferdezucht-rheinland
 .de/termine-veranstaltungen/event/591-fohlenschau-unterer-niederrhein.html
DTSTART;VALUE=DATE:20250628
LOCATION: ()
SUMMARY:Fohlenschau Unterer Niederrhein
URL:https://www.pferdezucht-rheinland.de/termine-veranstaltungen/event/591-
 fohlenschau-unterer-niederrhein.html
END:VEVENT
BEGIN:VEVENT
UID:20260423T115929UTC-9036sAVS2i@https://www.pferdezucht-rheinland.de/
DTSTAMP:20260423T115929Z
DESCRIPTION:Anmeldungen sind an die ausrichtenden Kreispferdezuchtvereine z
 u richten.\nKATALOG\nZEITEINTEILUNG https://www.pferdezucht-rheinland.de/t
 ermine-veranstaltungen/event/592-fohlenschau-der-kreise-rheinisch-bergisch
 \,-oberbergisch-und-rhein-sieg.html
DTSTART;VALUE=DATE:20250628
LOCATION: ()
SUMMARY:Fohlenschau der Kreise Rheinisch-Bergisch\, Oberbergisch und Rhein-
 Sieg
URL:https://www.pferdezucht-rheinland.de/termine-veranstaltungen/event/592-
 fohlenschau-der-kreise-rheinisch-bergisch,-oberbergisch-und-rhein-sieg.htm
 l
END:VEVENT
END:VCALENDAR
