BEGIN:VCALENDAR
VERSION:2.0
PRODID:-//https://www.pferdezucht-rheinland.de///NONSGML kigkonsult.se iCalcreator 2.10.15//
METHOD:PUBLISH
BEGIN:VEVENT
UID:20260422T223821UTC-98788Z3FP7@https://www.pferdezucht-rheinland.de/
DTSTAMP:20260422T223821Z
DESCRIPTION: https://www.pferdezucht-rheinland.de/termine-veranstaltungen/e
 vent/588-schloss-wickrath-fohlenauktion-online-edition.html
DTSTART:20250614T100000Z
DTEND:20250622T160000Z
LOCATION:Online (Online)
SUMMARY:Schloss Wickrath Fohlenauktion - Online Edition
URL:https://www.pferdezucht-rheinland.de/termine-veranstaltungen/event/588-
 schloss-wickrath-fohlenauktion-online-edition.html
END:VEVENT
BEGIN:VEVENT
UID:20260422T223821UTC-9880LSjoAt@https://www.pferdezucht-rheinland.de/
DTSTAMP:20260422T223821Z
DESCRIPTION:\nAnmeldungen sind an die ausrichtenden Kreispferdezuchtvereine
  zu richten.\nKATALOG\nNACHTRAG\nReitanlage Hülsmann\, Moosheide 144\, 478
 77 Willich \nBeginn: 13:00 Uhr  \n13:00 Uhr Warmblutstutfohlen ( jung–alt)
   Dressur  13:40 Uhr Ermittlung Siegerstutfohlen \n13:45 Uhr Warmbluthengs
 tfohlen ( jung–alt) Dressur14:25 Uhr Ermittlung Siegerhengstfohlen \n14:30
  Uhr Warmblutspringfohlen ( jung-alt )15:15 Uhr Ermittlung Siegerfohlen Sp
 ringen \n    15:20 Uhr Shetlandfohlen       15:30 Uhr Dartmoorfohlen   15:
 40 Uhr Haflingerfohlen   15:55 Uhr Schwarzwälder Kaltblutfohlen16:00 Uhr  
 Kaltblutfohlen16:20 Uhr Reitponystutfohlen ( jung-alt ) 16:45 Uhr Ermittlu
 ng Siegerstutfohlen Abtgl. B 16:50 Uhr Reitponyhengstfohlen ( jung-alt)17:
 15 Uhr Ermittlung Siegerhengstfohlen Abtlg. B \n \n\n https://www.pferdezu
 cht-rheinland.de/termine-veranstaltungen/event/590-fohlenschau-mittlerer-n
 iederrhein.html
DTSTART;VALUE=DATE:20250618
LOCATION: ()
SUMMARY:Fohlenschau Mittlerer Niederrhein
URL:https://www.pferdezucht-rheinland.de/termine-veranstaltungen/event/590-
 fohlenschau-mittlerer-niederrhein.html
END:VEVENT
END:VCALENDAR
