BEGIN:VCALENDAR
VERSION:2.0
PRODID:-//https://www.pferdezucht-rheinland.de///NONSGML kigkonsult.se iCalcreator 2.10.15//
METHOD:PUBLISH
BEGIN:VEVENT
UID:20260422T163011UTC-8422anBFCp@https://www.pferdezucht-rheinland.de/
DTSTAMP:20260422T163011Z
DESCRIPTION:Anmeldungen sind an die veranstaltenden Kreispferdezuchtvereine
  zu richten.\nKATALOG https://www.pferdezucht-rheinland.de/termine-veranst
 altungen/event/589-euregio-fohlenschau.html
DTSTART;VALUE=DATE:20250613
LOCATION:Aachen (Aachen)
SUMMARY:Euregio Fohlenschau
URL:https://www.pferdezucht-rheinland.de/termine-veranstaltungen/event/589-
 euregio-fohlenschau.html
END:VEVENT
END:VCALENDAR
