BEGIN:VCALENDAR
VERSION:2.0
PRODID:-//https://www.pferdezucht-rheinland.de///NONSGML kigkonsult.se iCalcreator 2.10.15//
METHOD:PUBLISH
BEGIN:VEVENT
UID:20260421T112104UTC-2665pAvBIp@https://www.pferdezucht-rheinland.de/
DTSTAMP:20260421T112104Z
DESCRIPTION:Hier geht es zur Einladung -> Klick https://www.pferdezucht-rhe
 inland.de/termine-veranstaltungen/event/615-jahreshauptversammlung-rheinis
 ches-pferdestammbuch-bezirksverband-nrw.html
DTSTART:20250526T160000Z
DTEND:20250526T180000Z
LOCATION: ()
SUMMARY:Jahreshauptversammlung Rheinisches Pferdestammbuch & Bezirksverband
  NRW
URL:https://www.pferdezucht-rheinland.de/termine-veranstaltungen/event/615-
 jahreshauptversammlung-rheinisches-pferdestammbuch-bezirksverband-nrw.html
END:VEVENT
END:VCALENDAR
