BEGIN:VCALENDAR
VERSION:2.0
PRODID:-//https://www.pferdezucht-rheinland.de///NONSGML kigkonsult.se iCalcreator 2.10.15//
METHOD:PUBLISH
BEGIN:VEVENT
UID:20260425T202422UTC-4408c4lTER@https://www.pferdezucht-rheinland.de/
DTSTAMP:20260425T202422Z
DESCRIPTION:Für diejenigen\, die dieses Training gerne nutzen möchten ohne 
 an der Stutenleistungsprüfung teilzunehmen\, genügt zur Anmeldung eine kur
 ze E-Mail an cg@pferdezucht-rheinland.de mit folgenden Angaben:\nName Pfer
 debesitzer TelefonnummerE-MailName PferdLebensnummerRasse\nDie Teilnahmege
 bühr von 15\,-€ kann bar vor Ort bezahlt werden. https://www.pferdezucht-r
 heinland.de/termine-veranstaltungen/event/234-trainingsfreispringen.html
DTSTART:20230515T160000Z
DTEND:20230515T180000Z
LOCATION:Wickrath (Schloss Wickrath 7\, 41189 Mönchengladbach)
SUMMARY:Trainingsfreispringen
URL:https://www.pferdezucht-rheinland.de/termine-veranstaltungen/event/234-
 trainingsfreispringen.html
END:VEVENT
END:VCALENDAR
