BEGIN:VCALENDAR
VERSION:2.0
PRODID:-//https://www.pferdezucht-rheinland.de///NONSGML kigkonsult.se iCalcreator 2.10.15//
METHOD:PUBLISH
BEGIN:VEVENT
UID:20260424T094412UTC-26652st6v9@https://www.pferdezucht-rheinland.de/
DTSTAMP:20260424T094412Z
DESCRIPTION:Zum Anmeldeformular Hier klicken! https://www.pferdezucht-rhein
 land.de/termine-veranstaltungen/event/474-vorauswahl-fohlenauktion-mit-fot
 o-videotermin.html
DTSTART;VALUE=DATE:20230510
LOCATION: ()
SUMMARY:Vorauswahl Fohlenauktion mit Foto- & Videotermin 
URL:https://www.pferdezucht-rheinland.de/termine-veranstaltungen/event/474-
 vorauswahl-fohlenauktion-mit-foto-videotermin.html
END:VEVENT
END:VCALENDAR
