BEGIN:VCALENDAR
VERSION:2.0
PRODID:-//https://www.pferdezucht-rheinland.de///NONSGML kigkonsult.se iCalcreator 2.10.15//
METHOD:PUBLISH
BEGIN:VEVENT
UID:20260423T143958UTC-6344dVVvvL@https://www.pferdezucht-rheinland.de/
DTSTAMP:20260423T143958Z
DESCRIPTION: https://www.pferdezucht-rheinland.de/termine-veranstaltungen/e
 vent/489-mitgliederversammlung-kreispferdezuchtverein-rhein-sieg-kreis.htm
 l
DTSTART:20230427T173000Z
DTEND:20230427T190000Z
LOCATION:Kiefferhof (Kiefferhof\, Bölkum 7\, 53809 Ruppichteroth )
SUMMARY:Mitgliederversammlung Kreispferdezuchtverein Rhein-Sieg Kreis
URL:https://www.pferdezucht-rheinland.de/termine-veranstaltungen/event/489-
 mitgliederversammlung-kreispferdezuchtverein-rhein-sieg-kreis.html
END:VEVENT
END:VCALENDAR
