BEGIN:VCALENDAR
VERSION:2.0
PRODID:-//https://www.pferdezucht-rheinland.de///NONSGML kigkonsult.se iCalcreator 2.10.15//
METHOD:PUBLISH
BEGIN:VEVENT
UID:20260423T110912UTC-26267llEUH@https://www.pferdezucht-rheinland.de/
DTSTAMP:20260423T110912Z
DESCRIPTION: https://www.pferdezucht-rheinland.de/termine-veranstaltungen/e
 vent/486-mitgliederversammlung-kreispferdezuchtverein-kreis-metmann.html
DTSTART:20230424T170000Z
DTEND:20230424T190000Z
LOCATION: ()
SUMMARY:Mitgliederversammlung Kreispferdezuchtverein Kreis Metmann
URL:https://www.pferdezucht-rheinland.de/termine-veranstaltungen/event/486-
 mitgliederversammlung-kreispferdezuchtverein-kreis-metmann.html
END:VEVENT
END:VCALENDAR
