BEGIN:VCALENDAR
VERSION:2.0
PRODID:-//https://www.pferdezucht-rheinland.de///NONSGML kigkonsult.se iCalcreator 2.10.15//
METHOD:PUBLISH
BEGIN:VEVENT
UID:20260422T182920UTC-1194wU85od@https://www.pferdezucht-rheinland.de/
DTSTAMP:20260422T182920Z
DESCRIPTION:Hier geht es zur Zeiteinteilung und Starterliste:    \n https:/
 /www.pferdezucht-rheinland.de/termine-veranstaltungen/event/483-trainingsf
 reispringen-mit-qualifikation-für-nrw-freispringchampionat.html
DTSTART;VALUE=DATE:20230411
LOCATION: ()
SUMMARY:Trainingsfreispringen mit Qualifikation für NRW Freispringchampiona
 t
URL:https://www.pferdezucht-rheinland.de/termine-veranstaltungen/event/483-
 trainingsfreispringen-mit-qualifikation-für-nrw-freispringchampionat.html
END:VEVENT
BEGIN:VEVENT
UID:20260422T182920UTC-1196hWUVGo@https://www.pferdezucht-rheinland.de/
DTSTAMP:20260422T182920Z
DESCRIPTION:Um Ihren Hengst anzumelden\, melden Sie sich bitte bei Antje Ba
 uer-Jacobsab@pferdezucht-rheinland.de02166-62191-16 https://www.pferdezuch
 t-rheinland.de/termine-veranstaltungen/event/488-nachkörung-hofkörung-wick
 rath.html
DTSTART;VALUE=DATE:20230411
LOCATION: ()
SUMMARY:Nachkörung/ Hofkörung Wickrath
URL:https://www.pferdezucht-rheinland.de/termine-veranstaltungen/event/488-
 nachkörung-hofkörung-wickrath.html
END:VEVENT
END:VCALENDAR
