BEGIN:VCALENDAR
VERSION:2.0
PRODID:-//https://www.pferdezucht-rheinland.de///NONSGML kigkonsult.se iCalcreator 2.10.15//
METHOD:PUBLISH
BEGIN:VEVENT
UID:20260420T072130UTC-9412auke7w@https://www.pferdezucht-rheinland.de/
DTSTAMP:20260420T072130Z
DESCRIPTION: https://www.pferdezucht-rheinland.de/termine-veranstaltungen/e
 vent/485-mitgliederversammlung-kreispferdezuchtverein-kreis-viersen.html
DTSTART:20230309T183000Z
DTEND:20230309T200000Z
LOCATION:Bürgerhaus Dülken - Foyer (Lange Str. 2-4 in  41751 Viersen-Dülken
 )
SUMMARY:Mitgliederversammlung Kreispferdezuchtverein Kreis Viersen
URL:https://www.pferdezucht-rheinland.de/termine-veranstaltungen/event/485-
 mitgliederversammlung-kreispferdezuchtverein-kreis-viersen.html
END:VEVENT
END:VCALENDAR
